BEGIN:VCALENDAR
VERSION:2.0
PRODID:-//Tukios.com/
BEGIN:VEVENT
UID:31365159-34e3-4d16-9099-d2998d485e73@www.buggsfuneralhome.com
DTSTAMP:20260419T124702Z
DTSTART:20260314T183000Z
DTEND:20260314T193000Z
SUMMARY:Funeral Service
DESCRIPTION:
URL:https://www.buggsfuneralhome.com/obituaries/willie-rowles
LOCATION: 2701 S Harbor City Blvd  Melbourne FL 32901
GEO:28.0682684;-80.5995216
END:VEVENT
END:VCALENDAR