BEGIN:VCALENDAR
VERSION:2.0
PRODID:-//Tukios.com/
BEGIN:VEVENT
UID:70da90af-3d5b-48e5-9b3f-5f0d00dc148d@www.buggsfuneralhome.com
DTSTAMP:20260421T083118Z
DTSTART:20260228T160000Z
DTEND:20260228T170000Z
SUMMARY:Viewing
DESCRIPTION:
URL:https://www.buggsfuneralhome.com/obituaries/terrence-lewis
LOCATION:Bethlehem Missionary Baptist Church 801 Dummitt Avenue  
	Titusville FL 32780
GEO:28.6069345;-80.8106875
END:VEVENT
END:VCALENDAR