BEGIN:VCALENDAR
VERSION:2.0
PRODID:-//Tukios.com/
BEGIN:VEVENT
UID:4aa9f39e-43c3-40f8-a6d0-c5bfdd5e704c@www.buggsfuneralhome.com
DTSTAMP:20260425T001702Z
DTSTART:20260509T140000Z
DTEND:20260509T150000Z
SUMMARY:Funeral Service
DESCRIPTION:
URL:https://www.buggsfuneralhome.com/obituaries/jesse-price
LOCATION:Greater Faith Temple COGIC Leonard Weaver Boulevard  Melbourne 
	FL 32901
GEO:28.0664161;-80.6129713
END:VEVENT
END:VCALENDAR