BEGIN:VCALENDAR
VERSION:2.0
PRODID:-//Tukios.com/
BEGIN:VEVENT
UID:fabffc2e-e43f-4aab-baf2-9b2e97f4e864@www.buggsfuneralhome.com
DTSTAMP:20260425T001655Z
DTSTART:20260508T200000Z
DTEND:20260508T220000Z
SUMMARY:Viewing
DESCRIPTION:
URL:https://www.buggsfuneralhome.com/obituaries/jesse-price
LOCATION: 2701 S Harbor City Blvd  Melbourne FL 32901
GEO:28.0682684;-80.5995216
END:VEVENT
END:VCALENDAR