BEGIN:VCALENDAR
VERSION:2.0
PRODID:-//Tukios.com/
BEGIN:VEVENT
UID:820972b0-db5b-404a-835d-fdb309a9a112@www.buggsfuneralhome.com
DTSTAMP:20260423T212857Z
DTSTART:20260502T223000Z
DTEND:20260502T233000Z
SUMMARY:Funeral Service
DESCRIPTION:
URL:https://www.buggsfuneralhome.com/obituaries/chadwick-willacy
LOCATION: 2701 S Harbor City Blvd  Melbourne FL 32901
GEO:28.0682684;-80.5995216
END:VEVENT
END:VCALENDAR