BEGIN:VCALENDAR
VERSION:2.0
PRODID:-//Tukios.com/
BEGIN:VEVENT
UID:53803a20-33ae-4f1b-8270-ea3aae4316be@www.buggsfuneralhome.com
DTSTAMP:20260423T213045Z
DTSTART:20260502T213000Z
DTEND:20260502T223000Z
SUMMARY:Viewing
DESCRIPTION:
URL:https://www.buggsfuneralhome.com/obituaries/chadwick-willacy
LOCATION: 2701 S Harbor City Blvd  Melbourne FL 32901
GEO:28.0682684;-80.5995216
END:VEVENT
END:VCALENDAR